BEGIN:VCALENDAR
VERSION:2.0
PRODID:-//Talarföreningen NSA Sweden - ECPv6.15.20//NONSGML v1.0//EN
CALSCALE:GREGORIAN
METHOD:PUBLISH
X-ORIGINAL-URL:https://talarforeningen.se
X-WR-CALDESC:Händelser för Talarföreningen NSA Sweden
REFRESH-INTERVAL;VALUE=DURATION:PT1H
X-Robots-Tag:noindex
X-PUBLISHED-TTL:PT1H
BEGIN:VTIMEZONE
TZID:UTC
BEGIN:STANDARD
TZOFFSETFROM:+0000
TZOFFSETTO:+0000
TZNAME:UTC
DTSTART:20230101T000000
END:STANDARD
END:VTIMEZONE
BEGIN:VEVENT
DTSTART;TZID=UTC:20240915T130000
DTEND;TZID=UTC:20240915T150000
DTSTAMP:20260423T134047
CREATED:20240822T131927Z
LAST-MODIFIED:20240822T144930Z
UID:4526-1726405200-1726412400@talarforeningen.se
SUMMARY:MÖT BOB HOOEY-internationell talare på besök i Sverige
DESCRIPTION:Den internationella talaren Bob Hooey besöker Sweden och vill sätta av tid för att träffa oss i NSA Sweden!!               \nBob gillar att träffa andra talare så han kommer att ge oss två timmar av sin tid då han kommer berätta om sig själv och sin karriär och ge oss tips på hur vi kan lyckas internationellt. Ami Hallberg Pauli kommer moderera en frågestund efteråt och vi får ställa hur mycket frågor vi vill! Räcker inte tiden till har han lovat att vi kan fortsätta på någon närliggande bar. \nDet hela går av stapeln söndagen den 15 september kl 13-15 på Improvisationsstudions scen på Skånegatan 63 i Stockholm. \nAnmäl er till amihallbergpauli@gmail.com så vi vet hur många som kommer. \nEn chans ni inte får missa! \nAn afternoon with Canadian Ideaman Bob Hooey presented by NSA Sweden. \nBob is traveling to Stockholm and will be sharing tips and techniques learned from his 33 years as a professional speaker.  His presentation will be casual in nature as he recounts ideas and lessons learned along his journey. Come spend the afternoon with us and bring your questions. \nExtra!! A special expanded edition of my ”In the company of leaders” with 60 contributing authors (some Global Speakers Federation members) for Toastmasters ( Toastmasters International is a nonprofit educational organization that builds confidence and teaches public speaking skills) anniversary you can download here: \n \nAbout Bob ‘Idea Man’ Hooey \nBob is known as Canada’s Idea Man whose innovative ideas have enabled him to travel to 80 countries\, on 6 continents\, so far. He has presented in 31 of them. He shares use-it-now\, practical career\, business and leadership success ideas with his audiences. He is a prolific author of a series of books on Idea-rich business leadership. He loves to engage with his audiences and challenge them to move out of the comfort zone into their winner’s zone. He is a former leader and charter member of The Canadian Association of Professional Speakers\, Virtual Speakers Association International and Professional Speakers Association of Spain and for years a member of National Speaker Association Arizona. \n 
URL:https://talarforeningen.se/events/mot-bob-hooey-internationell-talare-pa-besok-i-sverige/
LOCATION:Improvisationsstudion\, Skånegatan 63\, Stockholm\, 11637\, Sweden
ATTACH;FMTTYPE=image/png:https://talarforeningen.se/wp-content/uploads/2024/08/BobHooey.png
ORGANIZER;CN="Talarf%C3%B6reningen NSA Sweden":MAILTO:info@talarforeningen.se
END:VEVENT
BEGIN:VEVENT
DTSTART;TZID=UTC:20240924T113000
DTEND;TZID=UTC:20240924T123000
DTSTAMP:20260423T134047
CREATED:20240822T145608Z
LAST-MODIFIED:20240903T125032Z
UID:4539-1727177400-1727181000@talarforeningen.se
SUMMARY:Hur kan du involvera ALLA i möten? Nätevent med Pia Villför Larsson
DESCRIPTION:Många berättar för mig att det är svårt att få alla att engagera sig när det är enhetsmöten\, teammöten\, avdelningsmöten. Det finns flera orsaker till varför det kan bli så.\nJag tänker bjuda på en modell för hur du kan leda mötet stegvis så att ALLA blir involverade. Under seminariet kommer du att få prova på några korta övningar för att involvera. Nyttorna med detta angreppssätt är många som att tillvara på flera synvinklar och lösa utmaningar tillsammans\, att deltagare känner sig sedda och hörda vilket ökar trivsel och minskar ohälsa. Föreläsningen hålls på Zoom\, du anmäler dig först länk här \nOm Pia Villför Larsson \nPia driver Facilitatorhuset och arbetar som mötesfacilitator och utbildare. Hon är certififerad facilitator enligt IAF och är en av få i Sverige som har en mastertitel i facilitering. Som facilitator får hon i uppdrag att leda workshopar och konferenser där uppdragsgivaren vill ha hög delaktighet. Där deltagarna tillsammans arbetar fram resultat som exempelvis verksamhetsplan\, vision & strategi\, värdegrund mm. Hon har skrivit en bok som heter ”Sätt fart på arbetsmötet” och håller sedan 20 år tillbaka kurser ämnet. Hon stödjer också konferenser med grafisk mötesdokumentation (graphic recording) där det som sägs visualiseras live framför deltagarna.
URL:https://talarforeningen.se/events/hur-kan-du-involvera-alla-i-moten-natevent-med-pia-villfor-larsson/
ATTACH;FMTTYPE=image/png:https://talarforeningen.se/wp-content/uploads/2024/08/Pia-Villfor-Larsson.png
END:VEVENT
END:VCALENDAR