BEGIN:VCALENDAR
VERSION:2.0
PRODID:-//Talarföreningen NSA Sweden - ECPv6.15.20//NONSGML v1.0//EN
CALSCALE:GREGORIAN
METHOD:PUBLISH
X-ORIGINAL-URL:https://talarforeningen.se
X-WR-CALDESC:Händelser för Talarföreningen NSA Sweden
REFRESH-INTERVAL;VALUE=DURATION:PT1H
X-Robots-Tag:noindex
X-PUBLISHED-TTL:PT1H
BEGIN:VTIMEZONE
TZID:UTC
BEGIN:STANDARD
TZOFFSETFROM:+0000
TZOFFSETTO:+0000
TZNAME:UTC
DTSTART:20230101T000000
END:STANDARD
END:VTIMEZONE
BEGIN:VEVENT
DTSTART;TZID=UTC:20241212T130000
DTEND;TZID=UTC:20241212T140000
DTSTAMP:20260420T183140
CREATED:20241204T163926Z
LAST-MODIFIED:20241204T163926Z
UID:4585-1734008400-1734012000@talarforeningen.se
SUMMARY:Sätt mål för 2025 samt lite digitalt julmingel
DESCRIPTION:Hur vill du att ditt 2025 ska vara?\nVi sätter mål för 2025 med hjälp av metoden Visionaryboard. Hur lever du ditt bästa liv? Vilka är dina ledstjärnor? Vad vill du förändra? Anmäl dig på länken: https://us02web.zoom.us/meeting/register/tZArceutrz0sE9Z7hJDG6NO5B4QZhLtnW1nj och joina oss!\nKarin Klerfelt och Jenny Lindblad leder processen där du med hjälp av bilder får reflektera och formulera dig kring vilket liv du vill leva och vilka mål du vill sätta för 2025.\nLäs gärna detta innan vi ses på workshopen:\nhttps://www.karinklerfelt.se/5-tips-pa-hur-du-tar-fram…
URL:https://talarforeningen.se/events/satt-mal-for-2025-samt-lite-digitalt-julmingel/
ATTACH;FMTTYPE=image/jpeg:https://talarforeningen.se/wp-content/uploads/2024/12/Satta-mal-for-2025.jpg
END:VEVENT
BEGIN:VEVENT
DTSTART;TZID=UTC:20250318T113000
DTEND;TZID=UTC:20250318T123000
DTSTAMP:20260420T183140
CREATED:20250305T221601Z
LAST-MODIFIED:20250305T221601Z
UID:4615-1742297400-1742301000@talarforeningen.se
SUMMARY:Myflow - något för oss talare?
DESCRIPTION:En träff om Myflow!REGISTRERA DIG PÅ DENNA LÄNK FÖR ATT VARA MED PÅ SAMT SCHEMALÄGGA MÖTET: https://us02web.zoom.us/…/register/_hb56TMQQTWakWkouw_05gDet har ibland funnits frågor i gruppen om den digitala verktygslådan MyFlow. Några medlemmar använder MyFlow aktivt för t ex offerter\, landningssidor\, CRM\, nyhetsbrev\, hemsidor och leadgenerering. Tisdag den 18 mars kl 11.30 kommer Ola Wallström\, Filip Reineby och Anna-Karin Lingham att ge en överblick om hur de använder plattformen och hur de upplever den jämfört med andra digitala plattformar. Välkommen att lyssna och ställa frågor!
URL:https://talarforeningen.se/events/myflow-nagot-for-oss-talare/
ATTACH;FMTTYPE=image/png:https://talarforeningen.se/wp-content/uploads/2025/03/Namnlos-design-5.png
ORGANIZER;CN="Talarf%C3%B6reningen NSA Sweden":MAILTO:info@talarforeningen.se
END:VEVENT
BEGIN:VEVENT
DTSTART;TZID=UTC:20250330T150000
DTEND;TZID=UTC:20250330T170000
DTSTAMP:20260420T183140
CREATED:20250225T153552Z
LAST-MODIFIED:20250225T153552Z
UID:4608-1743346800-1743354000@talarforeningen.se
SUMMARY:ÅRSMÖTE 2025
DESCRIPTION:Hej alla fantastiska medlemmar i Talarföreningen!Nu är det dags för årsmöte!Och vi loooovar att vi ska ha roligare än männen på bilden. \nBoka in söndagen den 30 mars kl. 15-17 (vi öppnar rummet lite tidigare så vi kan säga hej) och anmäl er på en gång. Det ger alla som lägger ideell tid på föreningen massor av energi om ni kommer. Anmälan dig till årsmötet här https://forms.gle/wTRue3ZnWMaLCRhu7(OBS! Detta är viktigt så att vi kan upprätta en röstlängd). Önskar du att sända in en motion skulle vi vilja ha den snarast och ber om ursäkt för kort varsel för det!\nVi har haft fullt upp med att planera allt inför årsmötet och här allt du behöver veta dels i bilaga och här med alla dokument (väntandes på något mer): https://ccxsllrg.r.eu-west-1.awstrack.me/…/ZmkUnyUM8RVo…\nMotioner som kommer in kommer att tillkomma i mappen!\nMvhGunnar Söderberg (er ödmjuka ordförande)
URL:https://talarforeningen.se/events/arsmote-2025/
LOCATION:Digitalt
ATTACH;FMTTYPE=image/png:https://talarforeningen.se/wp-content/uploads/2025/02/ARSMOTE-2025.png
END:VEVENT
BEGIN:VEVENT
DTSTART;TZID=UTC:20250520T113000
DTEND;TZID=UTC:20250520T123000
DTSTAMP:20260420T183140
CREATED:20250513T124411Z
LAST-MODIFIED:20250513T125041Z
UID:4699-1747740600-1747744200@talarforeningen.se
SUMMARY:Tips för företagare
DESCRIPTION:Svårt att navigera när det mesta i samhället är baserat på att du har en fast anställning med fast lön? Länsförsäkringars livsspecialist Jan Asklander\, Ann-Sofie Fall-Svensson som är rådgivare för företagsförsäkring och Sibel Ergul\, rådgivare bank bjuder på tips på vad vi ska tänka på som egna företagare. Registrera dig här för att vara med på Zoom-mötet så får du en notifikation till din kalender på en gång:https://us02web.zoom.us/…/reg…/m0cOcLuET9CleqU0ozqTGQ…Tid för frågor finnes efter deras genomgångar!
URL:https://talarforeningen.se/events/tips-for-foretagare/
ATTACH;FMTTYPE=image/png:https://talarforeningen.se/wp-content/uploads/2025/05/Tips-for-foretagare-pension-forsakringar-etc-for-dig-som-inte-ar-fast-anstalld-4.png
END:VEVENT
BEGIN:VEVENT
DTSTART;TZID=UTC:20250826T113000
DTEND;TZID=UTC:20250826T123000
DTSTAMP:20260420T183140
CREATED:20250814T162428Z
LAST-MODIFIED:20250814T162428Z
UID:4731-1756207800-1756211400@talarforeningen.se
SUMMARY:Praktisk nytta av AI med Nicholas Fernholm
DESCRIPTION:Välkommen till ett interaktivt webbinarium för oss som vill ta AI från teori till praktisk nytta inom talarföreningen. Registrera dig här: https://us02web.zoom.us/…/register/S62XII5-QvyBnhEc5VZPmATillsammans utforskar vi hur AI kan öka din effektivitet\, ge inspiration och öppna dörrar till nya kreativa arbetssätt. Under passet delar vi konkreta ”best use cases” med varandra\, testar smarta AI-verktyg och diskuterar hur vi kan använda tekniken för att både spara tid\, pengar och höja kvaliteten i vårt arbete.
URL:https://talarforeningen.se/events/praktisk-nytta-av-ai-med-nicholas-fernholm/
ATTACH;FMTTYPE=image/png:https://talarforeningen.se/wp-content/uploads/2025/08/Fernholm-AI-2.png
END:VEVENT
BEGIN:VEVENT
DTSTART;TZID=UTC:20251125T163000
DTEND;TZID=UTC:20251125T171500
DTSTAMP:20260420T183140
CREATED:20250917T131455Z
LAST-MODIFIED:20251021T133818Z
UID:4735-1764088200-1764090900@talarforeningen.se
SUMMARY:Lena Skogholm: Från bokidé till försäljning. Så lyckas du med din utgivning
DESCRIPTION:OBS! NYTT DATUM. Att skriva och ge ut en bok kan öppna dörrar\, stärka ditt varumärke och skapa långsiktig försäljning – men processen rymmer många steg och fallgropar. Logga in och anmäl dig här: https://us02web.zoom.us/…/register/DEfWWyH6TeCk_vb_LVyHBA EVENEMANGET SPELAS SÅ DU KAN SE DET EN TID EFTERÅT.Den fantastiskt framgångsrika författaren och föreläsaren Lena Skogholm delar med sig av sin resa som författare med utgivning både på traditionellt\, hybrid och eget förlag där hon sålt över 150 000 böcker som också spridits internationellt. Du får en översikt av hela processen – från första bokidé till färdig bok och vidare till marknadsföring och försäljning. Fokus ligger på vad som gör störst skillnad för dig som föreläsare när du vill använda boken som ett kraftfullt verktyg i din verksamhet.
URL:https://talarforeningen.se/events/lena-skogholm-fran-bokide-till-forsaljning-sa-lyckas-du-med-din-utgivning/
ATTACH;FMTTYPE=image/png:https://talarforeningen.se/wp-content/uploads/2025/09/Lena-dig-event.png
END:VEVENT
BEGIN:VEVENT
DTSTART;TZID=UTC:20251201T113000
DTEND;TZID=UTC:20251202T133000
DTSTAMP:20260420T183140
CREATED:20251019T143035Z
LAST-MODIFIED:20251019T160434Z
UID:4740-1764588600-1764682200@talarforeningen.se
SUMMARY:Talarföreningens 10-årsjubileum
DESCRIPTION:Vi fyller 10-år. Det firar vi den 1–2 december. Ett jubileumsevent i tre delar: \nDel 1: Starka berättelser i oroliga tider – eftermiddag 1/12\nI skakiga tider behövs starka berättelser mer än nånsin – berättelser som ger riktning\, mening och mod. För både medlemmar och gäster. \n\n\n\n\nDel 2: Galamiddag – kväll 1/12\nTalarföreningen fyller 10 år. En fest full av talare är något alldeles extra. En galakväll med trerätters\, glitter\, underhållning\, tal och överraskningar. För medelmmar. Gäster varmt välkomna. \n\n\n\n\nDel 3: Bli ännu bättre – förmiddag 2/12\nKompetensevent med praktiska workshops som utvecklar dig som talare & moderator. För medlemmar. \nHur anmäler jag mig?\nLäs mer och anmäl dig här:\nMedlemmar: https://www.trippus.net/talarforeningenmedlemmar\nGäster: https://www.trippus.net/talarforeningengast \n\n\nVilka gäster kan jag bjuda in?\n\n\n\nPersoner du känner som arbetar med HR\, kommunikation\, försäljning\, ledarskap eller samhällsengagemang och vill än bättre förstå hur berättelser kan påverka\, inspirera och förena. Talarbranschfolk. Och gärna personer som du känner till som skulle kunna bli medlemmar. \nInbjudan i pdf-format\nFör medelmmar: Talarföreningens Jubileumsevent\, 1-2 dec\nFör gäster: Starka berättelser i oroliga tider\, 1 dec
URL:https://talarforeningen.se/events/talarforeningens-10-arsjubileum/
ATTACH;FMTTYPE=image/jpeg:https://talarforeningen.se/wp-content/uploads/2025/10/Talarforeningen10ar_jubileumsevent-1920x1080-1.jpg
END:VEVENT
BEGIN:VEVENT
DTSTART;TZID=UTC:20251211T123000
DTEND;TZID=UTC:20251211T131500
DTSTAMP:20260420T183140
CREATED:20251125T124545Z
LAST-MODIFIED:20251211T085837Z
UID:4762-1765456200-1765458900@talarforeningen.se
SUMMARY:Analysera din föreläsning med hjälp av AI är tyvärr inställt
DESCRIPTION:Pga att företaget som tillverkar Anders inspelningsenhet har blivit uppköpta av Meta har dom stängt ner tjänsten i EU pga EUs gdpr-regler. \nSå han behöver pausa min dragning på obestämd tid tills han kommit igång med en ersättare tyvärr. \nSå eventet idag kl 12.30 blir tyvärr inställt.😞
URL:https://talarforeningen.se/events/analysera-din-forelasning-med-hjalp-av-ai-med-anders-bratland/
ATTACH;FMTTYPE=image/png:https://talarforeningen.se/wp-content/uploads/2025/11/Analysera-din-forelasning-med-hjalp-av-ai-FINAL1.png
END:VEVENT
BEGIN:VEVENT
DTSTART;TZID=UTC:20260112T123000
DTEND;TZID=UTC:20260120T133000
DTSTAMP:20260420T183140
CREATED:20251212T152224Z
LAST-MODIFIED:20251212T152224Z
UID:4771-1768221000-1768915800@talarforeningen.se
SUMMARY:Få mer jobb som talare! Antoni summerar boken "The Bookability Formula"
DESCRIPTION:Antoni Lacinai bjuder generöst på en Zoom-summering av ”The Bookability Formula” av Maria Franzoni.Kort sagt: Vad som gör att vissa talare blir mer bokade än andraBoka dig via länken: https://us02web.zoom.us/…/register/hSN_T0pRTZqtuxcfQQ68sQBoken recenseras bl. a. så här:”En uppfriskande ärlig och praktisk guide till vad som verkligen gör en föreläsare kommersiellt framgångsrik. Maria skär igenom allt fluff och visar med tydlighet vad som fungerar\, vad som inte gör det och varför. Insikterna om positionering\, bokningsbarhet och branschens realiteter är lika skarpa som de är användbara. Boken bekräftar dessutom hur 80/20-principen präglar föreläsarbranschen – och känns som att ha en mini-Maria i fickan.”
URL:https://talarforeningen.se/events/fa-mer-jobb-som-talare-antoni-summerar-boken-the-bookability-formula/
ATTACH;FMTTYPE=image/jpeg:https://talarforeningen.se/wp-content/uploads/2025/12/Antoni-event.jpeg
END:VEVENT
BEGIN:VEVENT
DTSTART;TZID=UTC:20260210T163000
DTEND;TZID=UTC:20260210T173000
DTSTAMP:20260420T183140
CREATED:20260202T104257Z
LAST-MODIFIED:20260202T115140Z
UID:4776-1770741000-1770744600@talarforeningen.se
SUMMARY:"Filma 40 reels på 90 minuter" med Lena Skogholm
DESCRIPTION:Filma 40 reels på 90 minuter! \nLena Skogholm berättar hur du på ett effektivt och tidssparande sätt skapar reels för att göra säljande innehåll till dina sociala medier! Anmäl dig på länken!  \n 
URL:https://talarforeningen.se/events/sa-gor-du-40-reels-pa-90-minuter-med-lena-skogholm/
ATTACH;FMTTYPE=image/jpeg:https://talarforeningen.se/wp-content/uploads/2026/02/Filma-40-reels-pa-90-minuter.jpg
END:VEVENT
BEGIN:VEVENT
DTSTART;TZID=UTC:20260414T113000
DTEND;TZID=UTC:20260414T123000
DTSTAMP:20260420T183140
CREATED:20260407T132106Z
LAST-MODIFIED:20260407T132106Z
UID:4788-1776166200-1776169800@talarforeningen.se
SUMMARY:AI-HJÄLP MED BOKFÖRINGEN - live demo med Anders Bratland
DESCRIPTION:Ni var många i föreningen som reagerade på Anders inlägg om automatiserad fakturering. Nu tar vi det vidare!Logga in här till eventet: https://us02web.zoom.us/…/register/Ja9S29twT5uKRnzPcUrrRwOBS! Detta online event spelas INTE in.\nAnders Bratland är föreläsare och Chief AI Officer på Daily Wins AB. Han har föreläst om AI\, digitalisering och ledarskap i över 15 år och hjälper företag att omsätta AI i praktisk affärsnytta. Nu visar han live hur han använder AI-assistenten Claude för att få hjälp med sin bokföring – kvittohantering\, utlägg i samban
URL:https://talarforeningen.se/events/ai-hjalp-med-bokforingen-live-demo-med-anders-bratland/
ATTACH;FMTTYPE=image/png:https://talarforeningen.se/wp-content/uploads/2026/04/AI-HJALP-MED-BOKFORINGEN-live-demo-med-Anders-Bratland.png
END:VEVENT
BEGIN:VEVENT
DTSTART;TZID=UTC:20260420T120000
DTEND;TZID=UTC:20260420T170000
DTSTAMP:20260420T183140
CREATED:20260412T084951Z
LAST-MODIFIED:20260412T093200Z
UID:4791-1776686400-1776704400@talarforeningen.se
SUMMARY:Årsmöte 2026 med lunch & workshop i publikkontakt
DESCRIPTION:Ett fysiskt event i Stockholm (Götgatan 78) den 20 april med följande delar: \n12:00 – 13:00 | Lunch & Uppladdning Vi startar med en gemensam lunch som föreningen bjuder på – det perfekta tillfället att möta kollegor och ladda för dagen. Alla medlemmar välkomna! \n13:00 – 15:00 | Workshop: Är du redo att ta din publikkontakt till nästa nivå? Medlemmarna visar vägen! Hur skapar vi interaktivitet som faktiskt landar? Under det här passet är det medlemmarna själva som leder – och får chansen att testa sina vassaste interaktiva metoder direkt på oss. Alla medlemmar välkomna! \n15:30 – 17:00 | Årsmöte Vi summerar året\, blickar framåt och väljer den styrelse som ska leda oss mot nya mål. Din röst är viktig! I anslutning till årsmötet vill styrelsen bjuda in till ett samtal om hur vi gemensamt kan utveckla föreningen vidare. Alla medlemmar välkomna! \n17:30 – 19:30 | Överlämningsmöte för den nya och den gamla styrelsen. Avgående och tillträdande styrelse möts för att säkra en smidig stafettväxling och starta nästa verksamhetsår. Mötet följs av en middag för nya och gamla styrelsen. \nAnmälan\nAnmäl dig via mail till event@talarforeningen.se. Eventet är utan kostand för medlemmar\, men har du anmält dig och inte dyker upp tar vi ut en no-showavgift om 350 kr för omkostnader. Vill du bara vara med på någon av delarna\, tydliggör det i ditt mail tack. Vänligen anmäl dig senast den 13 april. \nMotioner\nEtt årsmöte är tillfället att lyfta sina viktiga förslag. Har du ett konkret förslag som du vill att årsmötet tar upp\, är du välkommen att skicka det till event@talarforeningen.se senast den 13 april. Vi önskar max en A4-sida som innehåller ämne\, syfte & nyttan\, och vilket beslut du önskar ska tas av årsmötet. \nBilagor\nHär hittar du alla bilagor som Verksamhetsberättelse\, Årsbokslut\, Revisionsberättelse\, Budgetförslag\, Verksamhetsplan och Valberedningensförslag:\nhttps://drive.google.com/drive/folders/1wH4LpWT5xFZW6r97GNPDmHWzNC2O26dr \nVarmt välkommen till årsmötet 2026 önskar Styrelsen
URL:https://talarforeningen.se/events/arsmote-2026/
LOCATION:Arena Skrapan Coworking\, Götgatan 78\, Stockholm\, Götgatan 78\, Stockholm
ATTACH;FMTTYPE=image/jpeg:https://talarforeningen.se/wp-content/uploads/2026/04/Clipboard_04-12-2026_01.jpg
END:VEVENT
END:VCALENDAR