BEGIN:VCALENDAR
VERSION:2.0
PRODID:-//Talarföreningen NSA Sweden - ECPv6.15.20//NONSGML v1.0//EN
CALSCALE:GREGORIAN
METHOD:PUBLISH
X-WR-CALNAME:Talarföreningen NSA Sweden
X-ORIGINAL-URL:https://talarforeningen.se
X-WR-CALDESC:Händelser för Talarföreningen NSA Sweden
REFRESH-INTERVAL;VALUE=DURATION:PT1H
X-Robots-Tag:noindex
X-PUBLISHED-TTL:PT1H
BEGIN:VTIMEZONE
TZID:UTC
BEGIN:STANDARD
TZOFFSETFROM:+0000
TZOFFSETTO:+0000
TZNAME:UTC
DTSTART:20220101T000000
END:STANDARD
END:VTIMEZONE
BEGIN:VEVENT
DTSTART;TZID=UTC:20230929T110000
DTEND;TZID=UTC:20230929T130000
DTSTAMP:20260423T132832
CREATED:20230925T025836Z
LAST-MODIFIED:20231107T073813Z
UID:4165-1695985200-1695992400@talarforeningen.se
SUMMARY:Pitchskolan - Konsten att övertyga på tre minuter
DESCRIPTION:Låt din röst bli hörd och ge dina ideér framgång!\nVälkommen till en kunskapsbaserad föreläsning med Andrea Jovell Hartmann\, passionerad förespråkare för begriplig kommunikation. \nMed en gedigen bakgrund som företagare och kommunikationschef och en stark vilja att hjälpa andra att utvecklas vill Andrea ta med dig på resan att göra intryck och bli förstådd. Med pitchning som en värdefull dimension av kommunikation. \nAndrea Jovell Hartmann är inte bara talare – hon är en visionär som älskar att presentera med kraft och övertygelse. \nI hennes föreläsning\, ”Pitchskolan: Konsten att övertyga på tre minuter”\, får du ta del av teorier och möjlighet att prova övningar för att skapa kraftfulla pitchar som engagerar\, överraskar och vinner gehör. \nAtt kunna pitcha är en ovärderlig färdighet i dagens arbetsliv. Oavsett om du är entreprenör\, företagsledare eller en vanlig god kollega kan din förmåga att på kort tid kunna beskriva din anmodan avgöra. Andrea tar dig med bakom kulisserna bakom en framgångsrik pitch. \nVälkommen till insikter och praktiska råd som: \n\nBygg din pitch från grunden: Konstruera en pitch som väcker nyfikenhet\, besvarar frågor och tydligt kommunicerar ditt budskap på bara tre minuter.\nKraften i språk och ordval: Om hur ett enkelt språk kan göra ditt budskap tillgängligt.\n Framhäv ditt varför: Ankra pitchen i ditt personliga syfte och skapa en emotionell koppling med din publik.\n\nAndrea Jovell Hartmann har inte bara teorin i bakfickan – hon vill leverera innehållet med värme\, baserat på egna erfarenheter och tillkortakommanden som entreprenör och kommunikatör. Med passion för att skapa fler starka röster i arbetslivet strävar Andrea efter att utrusta dig med färdigheter för att göra dina idéer framgångsrika. \n  \nDetta event sker via zoom. För mer information om länk mm besök föreningens Fb-sida»
URL:https://talarforeningen.se/events/pitchskolan-konsten-att-overtyga-pa-tre-minuter/
CATEGORIES:Endast för medlemmar
ATTACH;FMTTYPE=image/jpeg:https://talarforeningen.se/wp-content/uploads/2023/09/369722176_10160726364488350_2583956633053614627_n.jpg
ORGANIZER;CN="Talarf%C3%B6reningen NSA Sweden":MAILTO:info@talarforeningen.se
END:VEVENT
END:VCALENDAR